BEGIN:VCALENDAR
VERSION:2.0
PRODID:-//Ville de Noves - ECPv6.15.20//NONSGML v1.0//EN
CALSCALE:GREGORIAN
METHOD:PUBLISH
X-WR-CALNAME:Ville de Noves
X-ORIGINAL-URL:https://noves.fr
X-WR-CALDESC:Évènements pour Ville de Noves
REFRESH-INTERVAL;VALUE=DURATION:PT1H
X-Robots-Tag:noindex
X-PUBLISHED-TTL:PT1H
BEGIN:VTIMEZONE
TZID:Europe/Paris
BEGIN:DAYLIGHT
TZOFFSETFROM:+0100
TZOFFSETTO:+0200
TZNAME:CEST
DTSTART:20250330T010000
END:DAYLIGHT
BEGIN:STANDARD
TZOFFSETFROM:+0200
TZOFFSETTO:+0100
TZNAME:CET
DTSTART:20251026T010000
END:STANDARD
BEGIN:DAYLIGHT
TZOFFSETFROM:+0100
TZOFFSETTO:+0200
TZNAME:CEST
DTSTART:20260329T010000
END:DAYLIGHT
BEGIN:STANDARD
TZOFFSETFROM:+0200
TZOFFSETTO:+0100
TZNAME:CET
DTSTART:20261025T010000
END:STANDARD
BEGIN:DAYLIGHT
TZOFFSETFROM:+0100
TZOFFSETTO:+0200
TZNAME:CEST
DTSTART:20270328T010000
END:DAYLIGHT
BEGIN:STANDARD
TZOFFSETFROM:+0200
TZOFFSETTO:+0100
TZNAME:CET
DTSTART:20271031T010000
END:STANDARD
END:VTIMEZONE
BEGIN:VEVENT
DTSTART;TZID=Europe/Paris:20260425T100000
DTEND;TZID=Europe/Paris:20260425T120000
DTSTAMP:20260425T204223
CREATED:20260325T124702Z
LAST-MODIFIED:20260325T124702Z
UID:21637-1777111200-1777118400@noves.fr
SUMMARY:Visite de la cave
DESCRIPTION:Visite exceptionnelle de la cave\, organisée par l’Association du Patrimoine Novais\, à 10h\, au Cellier de Laure. Commentée par Laurent MALTINTI. Venez découvrir la face cachée de cet emblème novais : les bâtiments\, les chais et les anecdotes historiques avant reconstruction totale.
URL:https://noves.fr/evenement/visite-de-la-cave-2/
ATTACH;FMTTYPE=image/jpeg:https://noves.fr/wp-content/uploads/2026/03/Patrimoine.jpg
END:VEVENT
BEGIN:VEVENT
DTSTART;TZID=Europe/Paris:20260425T180000
DTEND;TZID=Europe/Paris:20260425T193000
DTSTAMP:20260425T204223
CREATED:20260401T113454Z
LAST-MODIFIED:20260401T113454Z
UID:21745-1777140000-1777145400@noves.fr
SUMMARY:Super Mario Galaxy le film
DESCRIPTION:Action\, animation\, aventure\, famille\, fantastique \nDe Aaron Horvath\, Michael Jelenic \nAvec Chris Pratt\, Anya Taylor-Joy\, Charlie Day \nAprès SUPER MARIO BROS.\, l’adaptation cinématographique du célèbre jeu vidéo et forts du succès remporté dans le monde entier avec plus d’un milliard de dollars de recettes\, ILLUMINATION et NINTENDO se retrouvent une nouvelle fois\, afin de nous offrir un tout nouveau chapitre\, cette fois à dimension cosmique\, mais tout aussi bourré d’action : SUPER MARIO GALAXY. \nÀ peine installés au Royaume Champignon\, un mystérieux appel à l’aide va pousser Mario et Luigi à reprendre du service et plonger dans les zones d’ombre du passé de la princesse Peach. Une mission qui va propulser nos héros et leur nouvelle constellation d’amis\, très loin de chez eux\, à travers un périple intergalactique\, à la découverte de nouveaux mondes où se forgeront des alliances pour le moins inattendues.
URL:https://noves.fr/evenement/super-mario-galaxy-le-film/
LOCATION:Cinéma l’Eden\, Rue du 19 Mars 1962\, Noves\, 13550
CATEGORIES:Cinéma
ATTACH;FMTTYPE=image/webp:https://noves.fr/wp-content/uploads/2026/04/Super-mario.webp
ORGANIZER;CN="Le Cinoche":MAILTO:cinemanoves@orange.fr
END:VEVENT
BEGIN:VEVENT
DTSTART;TZID=Europe/Paris:20260425T203000
DTEND;TZID=Europe/Paris:20260425T223000
DTSTAMP:20260425T204223
CREATED:20260401T113906Z
LAST-MODIFIED:20260401T113906Z
UID:21748-1777149000-1777156200@noves.fr
SUMMARY:Ceux qui comptent
DESCRIPTION:Comédie dramatique \nDe Jean-Baptiste Leonetti \nAvec Sandrine Kiberlain\, Pierre Lottin\, Louise Labeque \nTout public\n\nRose et Jean n’ont rien en commun. Rose est une force de la nature qui affronte tous ses problèmes avec une désarmante joie de vivre. Elle campe avec ses 3 enfants à l’étage de l’hôtel de famille qui ne leur appartient plus\, et non\, ils ne sont pas pauvres\, ils sont fauchés. C’est temporaire. Jean est un homme solitaire et taciturne qui a fini par enfouir son grand cœur sous des couches de pudeur et de résignation. Quand il arrive malgré lui dans cette famille hors norme\, il va très vite devenir indispensable. Qu’attendaient-ils avant de se rencontrer ? Sans doute plus rien. Et pourtant\, ensemble\, tout va devenir possible.
URL:https://noves.fr/evenement/ceux-qui-comptent/
LOCATION:Cinéma l’Eden\, Rue du 19 Mars 1962\, Noves\, 13550
CATEGORIES:Cinéma
ATTACH;FMTTYPE=image/jpeg:https://noves.fr/wp-content/uploads/2026/04/Ceux-qui-comptent.jpg
ORGANIZER;CN="Le Cinoche":MAILTO:cinemanoves@orange.fr
END:VEVENT
END:VCALENDAR