BEGIN:VCALENDAR
VERSION:2.0
PRODID:-//Ville de Noves - ECPv6.15.20//NONSGML v1.0//EN
CALSCALE:GREGORIAN
METHOD:PUBLISH
X-WR-CALNAME:Ville de Noves
X-ORIGINAL-URL:https://noves.fr
X-WR-CALDESC:Évènements pour Ville de Noves
REFRESH-INTERVAL;VALUE=DURATION:PT1H
X-Robots-Tag:noindex
X-PUBLISHED-TTL:PT1H
BEGIN:VTIMEZONE
TZID:Europe/Paris
BEGIN:DAYLIGHT
TZOFFSETFROM:+0100
TZOFFSETTO:+0200
TZNAME:CEST
DTSTART:20250330T010000
END:DAYLIGHT
BEGIN:STANDARD
TZOFFSETFROM:+0200
TZOFFSETTO:+0100
TZNAME:CET
DTSTART:20251026T010000
END:STANDARD
BEGIN:DAYLIGHT
TZOFFSETFROM:+0100
TZOFFSETTO:+0200
TZNAME:CEST
DTSTART:20260329T010000
END:DAYLIGHT
BEGIN:STANDARD
TZOFFSETFROM:+0200
TZOFFSETTO:+0100
TZNAME:CET
DTSTART:20261025T010000
END:STANDARD
BEGIN:DAYLIGHT
TZOFFSETFROM:+0100
TZOFFSETTO:+0200
TZNAME:CEST
DTSTART:20270328T010000
END:DAYLIGHT
BEGIN:STANDARD
TZOFFSETFROM:+0200
TZOFFSETTO:+0100
TZNAME:CET
DTSTART:20271031T010000
END:STANDARD
END:VTIMEZONE
BEGIN:VEVENT
DTSTART;TZID=Europe/Paris:20260522T163000
DTEND;TZID=Europe/Paris:20260522T193000
DTSTAMP:20260422T171407
CREATED:20260401T134222Z
LAST-MODIFIED:20260401T134222Z
UID:21787-1779467400-1779478200@noves.fr
SUMMARY:La Grande Lessive
DESCRIPTION:La Grande Lessive artistique de l’école Saint-Joseph\, à partir de 16h30\, sur la place Lagnel. Venez découvrir les œuvres d’art des élèves de l’école et d’autres artistes de Noves. Goûter et buvette sur place.
URL:https://noves.fr/evenement/la-grande-lessive/
LOCATION:Place Lagnel\, Place Lagnel\, Noves\, 13550\, France
ATTACH;FMTTYPE=image/jpeg:https://noves.fr/wp-content/uploads/2026/04/Grande-Lessive-22-mai-2026_page-0001.jpg
END:VEVENT
BEGIN:VEVENT
DTSTART;TZID=Europe/Paris:20260526T090000
DTEND;TZID=Europe/Paris:20260526T160000
DTSTAMP:20260422T171407
CREATED:20260401T134322Z
LAST-MODIFIED:20260401T134322Z
UID:21790-1779786000-1779811200@noves.fr
SUMMARY:Olympiades de l'école Saint-Joseph
DESCRIPTION:Olympiades de l’école Saint-Joseph\, de 9h à 16h\, au stade de Bonpas.
URL:https://noves.fr/evenement/olympiades-de-lecole-saint-joseph/
LOCATION:Stade de Bonpas\, Chemin du stade\, Noves\, 13550
END:VEVENT
END:VCALENDAR